BEGIN:VCALENDAR
VERSION:2.0
PRODID:-//Miner&#039;s Theatre - ECPv6.15.20//NONSGML v1.0//EN
CALSCALE:GREGORIAN
METHOD:PUBLISH
X-ORIGINAL-URL:https://minerstheatre.com
X-WR-CALDESC:Events for Miner&#039;s Theatre
REFRESH-INTERVAL;VALUE=DURATION:PT1H
X-Robots-Tag:noindex
X-PUBLISHED-TTL:PT1H
BEGIN:VTIMEZONE
TZID:America/Chicago
BEGIN:DAYLIGHT
TZOFFSETFROM:-0600
TZOFFSETTO:-0500
TZNAME:CDT
DTSTART:20250309T080000
END:DAYLIGHT
BEGIN:STANDARD
TZOFFSETFROM:-0500
TZOFFSETTO:-0600
TZNAME:CST
DTSTART:20251102T070000
END:STANDARD
BEGIN:DAYLIGHT
TZOFFSETFROM:-0600
TZOFFSETTO:-0500
TZNAME:CDT
DTSTART:20260308T080000
END:DAYLIGHT
BEGIN:STANDARD
TZOFFSETFROM:-0500
TZOFFSETTO:-0600
TZNAME:CST
DTSTART:20261101T070000
END:STANDARD
BEGIN:DAYLIGHT
TZOFFSETFROM:-0600
TZOFFSETTO:-0500
TZNAME:CDT
DTSTART:20270314T080000
END:DAYLIGHT
BEGIN:STANDARD
TZOFFSETFROM:-0500
TZOFFSETTO:-0600
TZNAME:CST
DTSTART:20271107T070000
END:STANDARD
END:VTIMEZONE
BEGIN:VEVENT
DTSTART;TZID=America/Chicago:20260425T190000
DTEND;TZID=America/Chicago:20260425T213000
DTSTAMP:20260421T020608
CREATED:20260101T215937Z
LAST-MODIFIED:20260205T134435Z
UID:2894-1777143600-1777152600@minerstheatre.com
SUMMARY:Steve Ewing Band - Fundraiser for Jason Moss Memorial Scholarship for CHS Band Kids
DESCRIPTION:Miners Theater welcomes The Steve Ewing Band with Guest Brian Krumm and His Barfly Friends to support the CHS Band – Jason Moss Scholarship \n\n\n\nHistoric Miners Theater is teaming up with The Steve Ewing Band and Brian Krumm to bring you an amazing night of live music with proceeds benefitting the Jason Moss Memorial Scholarship Fund for Collinsville High School Band Kids. \n\n\n\nSteve Ewing – St. Louis-based musician Steve Ewing is best known as the golden voice behind the seven piece powerhouse The Urge. Formed in high school back in late 80’s\, The Urge took their eclectic mix of punk\, reggae\, hip hop\, and ska\, and sent a sonic shockwave from the Midwest that can still be felt to this day. \n\n\n\nSince The Urge\, Steve has been involved in a multitude of projects including production work for artists such as Lojic\, Egress\, and many others. However\, the passion still lies in performing and he tears it up onstage every chance he gets. You can find him performing across the country with The Urge\, the Steve Ewing Band\, the Steve Ewing Duo\, and Master Blaster. \n\n\n\nBrian Krumm and his Barfly Friends – Krumm grew up in Collinsville and resides in Chicago with his family. He is a 1989 graduate of Collinsville High School\, where he enjoyed playing guitar in the CHS Jazz Band\, and a 2024 inductee of the Kahok Hall of Fame as a member of the 1986 state champion soccer team. \n\n\n\nBrian Krumm and His Barfly Friends is a project led by Brian Krumm\, front man for Chicago’s Americana-noir group The Great Crusades. The band’s debut album\, Just Fade Away\, was recorded with members of his regular band as well as a who’s who of Chicago music scene notables\, with Crusader Christian Moder producing. Just Fade Away was released by Chicago’s Pravda Records. Influences like Robyn Hitchcock\, the Jayhawks\, Warren Zevon\, and Dylan shine through all the material on Just Fade Away with Krumm’s storytelling at the forefront. The single “City That Care Forgot\,” an ode to New Orleans\, debuted on Pravda Records in May 2025. \n\n\n\n\n\nAgenda\n\n\n\nDoors Open6:00 PM – 7:00 PMBrian Krumm Takes the Stage7:00 PM – 7:45 PMIntermission7:45 PM – 8:00 PMThe Steve Ewing Band Takes the Stage8:00 PM – 9:30 PM\n\n\n\n\n\n\n\n\n\n\n\n\nFor Tickets\More Info
URL:https://minerstheatre.com/event/steve-ewing-band-fundraiser-for-jason-moss-memorial-scholarship-for-chs-band-kids/
LOCATION:Miners Theater\, 204 West Main Street\, Collinsville\, IL\, 62234\, United States
CATEGORIES:Concerts
ATTACH;FMTTYPE=image/webp:https://minerstheatre.com/wp-content/uploads/2026/01/Jason-Moss-Memorial-Scholarship-Fund-for-CHS-Band-with-The-Steve-Ewing-Band-2.webp
END:VEVENT
BEGIN:VEVENT
DTSTART;TZID=America/Chicago:20260509T193000
DTEND;TZID=America/Chicago:20260509T220000
DTSTAMP:20260421T020608
CREATED:20260102T220049Z
LAST-MODIFIED:20260203T140027Z
UID:2896-1778355000-1778364000@minerstheatre.com
SUMMARY:Shooting Star with Special Guest - Strikeforce
DESCRIPTION:Shooting Star with special Guests Strikeforce @ Historic Miners Theater \n\n\n\nHistoric Miners Theater is proud to bring Shooting Star and guest Strikeforce to the stage. \n\n\n\n\n\n\n\n\n\n\nFor Tickets\More Info\n\n\n\n\n\n\n\n\nAgenda\n\n\n\nDoors Open6:30 PM – 7:30 PMShow Starts7:30 PM – 8:30 PMIntermission8:30 PM – 8:45 PMShooting Star takes the stage8:45 PM – 10:00 PM
URL:https://minerstheatre.com/event/shooting-star-with-special-guest-strikeforce/
LOCATION:Miners Theater\, 204 West Main Street\, Collinsville\, IL\, 62234\, United States
CATEGORIES:Concerts
ATTACH;FMTTYPE=image/webp:https://minerstheatre.com/wp-content/uploads/2025/11/Shooting-Star-with-special-Guests-Strikeforce.webp
END:VEVENT
BEGIN:VEVENT
DTSTART;TZID=America/Chicago:20261121T190000
DTEND;TZID=America/Chicago:20261121T213000
DTSTAMP:20260421T020608
CREATED:20260403T170828Z
LAST-MODIFIED:20260403T170919Z
UID:2943-1795287600-1795296600@minerstheatre.com
SUMMARY:4th Annual Night of Real Rock Radio Klassics w Dude Abides and Blue Marlin
DESCRIPTION:Historic Miners Theater presents the 4th Annual NIGHT OF REAL ROCK RADIO KLASSICS featuring The Dude Abides and The Blue Marlin Band. \n\n\n\nGet ready for “A Night of REAL Rock Radio Klassics”!\n\n\n\nGet your reserved or general seating before they are gone at the Eventbrite link in the tickets section above! Doors Open @ 6:00 PM and Show Time @ 7:00 PM! See You There! \n\n\n\n\n\n\n\n\n\n\nFor Tickets\More Info\n\n\n\n\n\n\n\n\nAgenda\n\n\n\nDoors Open06:00 PM – 07:00 PMDude Abides takes the Stage07:00 PM – 08:15 PMIntermissionBlue Marlin Band takes the Stage08:35 PM
URL:https://minerstheatre.com/event/4th-annual-night-of-real-rock-radio-klassics-w-dude-abides-and-blue-marlin/
LOCATION:Miners Theater\, 204 West Main Street\, Collinsville\, IL\, 62234\, United States
ATTACH;FMTTYPE=image/webp:https://minerstheatre.com/wp-content/uploads/2026/04/4th-Annual-Night-of-Real-Rock-Radio-Klassics-w-Dude-Abides-and-Blue-Marlin.webp
END:VEVENT
END:VCALENDAR